BEGIN:VCALENDAR
VERSION:2.0
PRODID:-//swoogo.com//NONSGML kigkonsult.se iCalcreator 2.41.90//
CALSCALE:GREGORIAN
UID:66663238-6162-4636-a261-643732626534
BEGIN:VEVENT
UID:f29b7b3bd6cd07a7ba1fa1af2fe16b31a610e23e@swoogo.com
DTSTAMP:20260424T181741Z
DESCRIPTION:Success in the public service requires leading amidst uncertain
 ty\, complexity\, and the rapid emergence of new technologies\, while deli
 vering on rising expectations for excellence in policy\, programs and serv
 ices.  From integrating AI into your team's work\, to implementing workfor
 ce adjustment\, managing change is an integral part of the reality of publ
 ic service.  In this context\, all leadership is change leadership.  Effec
 tive leaders need to anticipate\, motivate and implement change both withi
 n their organisations and in collaboration with external partners.  This i
 s particularly true as capacity and resources shrink.  In this two-day cou
 rse\, students will learn skills and strategies to be effective change lea
 ders\, guided by two former senior public servants:  Neil Bouwer and Rache
 l Wernick.
DTSTART:20261028T123000Z
DTEND:20261029T203000Z
LAST-MODIFIED:20260424T181741Z
LOCATION:The Collaboration Centre\, 150 Elgin Street\, 8th floor\, Ottawa O
 N K2P 1L4\, Canada
SEQUENCE:0
STATUS:CONFIRMED
SUMMARY:Change Leadership in the Public Sector
TRANSP:OPAQUE
X-ALT-DESC;FMTTYPE=text/html:<p><span style='font-size:14px\;'>Success in t
 he public service requires leading amidst uncertainty\, complexity\, and t
 he rapid emergence of new technologies\, while delivering on rising expect
 ations for excellence in policy\, programs and services.  From integrating
  AI into your team's work\, to implementing workforce adjustment\, managin
 g change is an integral part of the reality of public service.  In this co
 ntext\, all leadership is change leadership.  Effective leaders need to an
 ticipate\, motivate and implement change both within their organisations a
 nd in collaboration with external partners.  This is particularly true as 
 capacity and resources shrink.  In this two-day course\, students will lea
 rn skills and strategies to be effective change leaders\, guided by two fo
 rmer senior public servants:  Neil Bouwer and Rachel Wernick.</span></p>
BEGIN:VALARM
UID:35636332-3761-4363-a364-313238393564
ACTION:DISPLAY
DESCRIPTION:Success in the public service requires leading amidst uncertain
 ty\, complexity\, and the rapid emergence of new technologies\, while deli
 vering on rising expectations for excellence in policy\, programs and serv
 ices.  From integrating AI into your team's work\, to implementing workfor
 ce adjustment\, managing change is an integral part of the reality of publ
 ic service.  In this context\, all leadership is change leadership.  Effec
 tive leaders need to anticipate\, motivate and implement change both withi
 n their organisations and in collaboration with external partners.  This i
 s particularly true as capacity and resources shrink.  In this two-day cou
 rse\, students will learn skills and strategies to be effective change lea
 ders\, guided by two former senior public servants:  Neil Bouwer and Rache
 l Wernick.
TRIGGER:-PT15M
END:VALARM
END:VEVENT
END:VCALENDAR
